BEGIN:VCALENDAR
VERSION:2.0
PRODID:-//Käppele Würzburg - ECPv6.15.17//NONSGML v1.0//EN
CALSCALE:GREGORIAN
METHOD:PUBLISH
X-WR-CALNAME:Käppele Würzburg
X-ORIGINAL-URL:https://kaeppele-wuerzburg.de
X-WR-CALDESC:Veranstaltungen für Käppele Würzburg
REFRESH-INTERVAL;VALUE=DURATION:PT1H
X-Robots-Tag:noindex
X-PUBLISHED-TTL:PT1H
BEGIN:VTIMEZONE
TZID:Europe/Berlin
BEGIN:DAYLIGHT
TZOFFSETFROM:+0100
TZOFFSETTO:+0200
TZNAME:CEST
DTSTART:20240331T010000
END:DAYLIGHT
BEGIN:STANDARD
TZOFFSETFROM:+0200
TZOFFSETTO:+0100
TZNAME:CET
DTSTART:20241027T010000
END:STANDARD
BEGIN:DAYLIGHT
TZOFFSETFROM:+0100
TZOFFSETTO:+0200
TZNAME:CEST
DTSTART:20250330T010000
END:DAYLIGHT
BEGIN:STANDARD
TZOFFSETFROM:+0200
TZOFFSETTO:+0100
TZNAME:CET
DTSTART:20251026T010000
END:STANDARD
BEGIN:DAYLIGHT
TZOFFSETFROM:+0100
TZOFFSETTO:+0200
TZNAME:CEST
DTSTART:20260329T010000
END:DAYLIGHT
BEGIN:STANDARD
TZOFFSETFROM:+0200
TZOFFSETTO:+0100
TZNAME:CET
DTSTART:20261025T010000
END:STANDARD
END:VTIMEZONE
BEGIN:VEVENT
DTSTART;TZID=Europe/Berlin:20250728T160000
DTEND;TZID=Europe/Berlin:20250729T160000
DTSTAMP:20260421T095420
CREATED:20250714T203907Z
LAST-MODIFIED:20250714T203907Z
UID:10000106-1753718400-1753804800@kaeppele-wuerzburg.de
SUMMARY:Sperrung des Stationenwegs vom 28.07.25 um 16.00 Uhr bis 29.07.25 um 16.00 Uhr
DESCRIPTION:Der Stationenweg muss vom Montag\, 28.07.25 um 16.00 Uhr bis Dienstag\, 29.07.25 um 16.00 Uhr gesperrt werden. In dieser Zeit bereiten die Schüler der Leopold-Sonnemann-Realschule ihre Kunst – Konstellation vor. Wir bitten um Ihr Verständnis!
URL:https://kaeppele-wuerzburg.de/event/sperrung-des-stationenwegs-vom-28-07-25-um-16-00-uhr-bis-29-07-25-um-16-00-uhr/
END:VEVENT
BEGIN:VEVENT
DTSTART;TZID=Europe/Berlin:20250729T163000
DTEND;TZID=Europe/Berlin:20250729T193000
DTSTAMP:20260421T095420
CREATED:20250414T150107Z
LAST-MODIFIED:20250723T111446Z
UID:10000099-1753806600-1753817400@kaeppele-wuerzburg.de
SUMMARY:Vom Wahrnehmen und Auf(er)stehen
DESCRIPTION:Die Schüler der Klasse 8e der Leopold-Sonnemann-Realschule lädt zum Dienstag\, 29.07.25 von 16.30 Uhr – 20.00 Uhr auf’s Käppele ein! \nSie geben religiöse und künstlerische Impulse zum Stationenweg und geben Gelegenheit zum Gespräch mit ihnen! \nBitte beachten:  Der Stationenweg muss vom Montag\, 28.07.25 um 16.00 Uhr bis Dienstag\, 29.07.25 um 16.00 Uhr gesperrt werden. In dieser Zeit bereiten die Schüler der Leopold-Sonnemann-Realschule ihre Kunst – Konstellation vor. Wir bitten um Ihr Verständnis! \nSiehe hier das Programm: \nBroschüre Käppele-Veranstaltung \n  \n 
URL:https://kaeppele-wuerzburg.de/event/vom-wahrnehmen-und-auferstehen/
END:VEVENT
END:VCALENDAR