BEGIN:VCALENDAR
VERSION:2.0
PRODID:-//Käppele Würzburg - ECPv6.15.17//NONSGML v1.0//EN
CALSCALE:GREGORIAN
METHOD:PUBLISH
X-ORIGINAL-URL:https://kaeppele-wuerzburg.de
X-WR-CALDESC:Veranstaltungen für Käppele Würzburg
REFRESH-INTERVAL;VALUE=DURATION:PT1H
X-Robots-Tag:noindex
X-PUBLISHED-TTL:PT1H
BEGIN:VTIMEZONE
TZID:Europe/Berlin
BEGIN:DAYLIGHT
TZOFFSETFROM:+0100
TZOFFSETTO:+0200
TZNAME:CEST
DTSTART:20230326T010000
END:DAYLIGHT
BEGIN:STANDARD
TZOFFSETFROM:+0200
TZOFFSETTO:+0100
TZNAME:CET
DTSTART:20231029T010000
END:STANDARD
BEGIN:DAYLIGHT
TZOFFSETFROM:+0100
TZOFFSETTO:+0200
TZNAME:CEST
DTSTART:20240331T010000
END:DAYLIGHT
BEGIN:STANDARD
TZOFFSETFROM:+0200
TZOFFSETTO:+0100
TZNAME:CET
DTSTART:20241027T010000
END:STANDARD
BEGIN:DAYLIGHT
TZOFFSETFROM:+0100
TZOFFSETTO:+0200
TZNAME:CEST
DTSTART:20250330T010000
END:DAYLIGHT
BEGIN:STANDARD
TZOFFSETFROM:+0200
TZOFFSETTO:+0100
TZNAME:CET
DTSTART:20251026T010000
END:STANDARD
END:VTIMEZONE
BEGIN:VEVENT
DTSTART;TZID=Europe/Berlin:20241123T190000
DTEND;TZID=Europe/Berlin:20241123T200000
DTSTAMP:20260420T212336
CREATED:20241028T143043Z
LAST-MODIFIED:20241028T143147Z
UID:10000086-1732388400-1732392000@kaeppele-wuerzburg.de
SUMMARY:The Long Day Closes!
DESCRIPTION:Herzliche Einladung zu einem musikalischen Abendgebet am Samstag\, 23.11.2024 um 19.00 Uhr mit Blechschmitt\, dem Chörle „Solala“ und Frank Greubel!
URL:https://kaeppele-wuerzburg.de/event/the-long-day-closes/
END:VEVENT
END:VCALENDAR