BEGIN:VCALENDAR
VERSION:2.0
PRODID:-//Käppele Würzburg - ECPv6.15.17//NONSGML v1.0//EN
CALSCALE:GREGORIAN
METHOD:PUBLISH
X-WR-CALNAME:Käppele Würzburg
X-ORIGINAL-URL:https://kaeppele-wuerzburg.de
X-WR-CALDESC:Veranstaltungen für Käppele Würzburg
REFRESH-INTERVAL;VALUE=DURATION:PT1H
X-Robots-Tag:noindex
X-PUBLISHED-TTL:PT1H
BEGIN:VTIMEZONE
TZID:Europe/Berlin
BEGIN:DAYLIGHT
TZOFFSETFROM:+0100
TZOFFSETTO:+0200
TZNAME:CEST
DTSTART:20240331T010000
END:DAYLIGHT
BEGIN:STANDARD
TZOFFSETFROM:+0200
TZOFFSETTO:+0100
TZNAME:CET
DTSTART:20241027T010000
END:STANDARD
BEGIN:DAYLIGHT
TZOFFSETFROM:+0100
TZOFFSETTO:+0200
TZNAME:CEST
DTSTART:20250330T010000
END:DAYLIGHT
BEGIN:STANDARD
TZOFFSETFROM:+0200
TZOFFSETTO:+0100
TZNAME:CET
DTSTART:20251026T010000
END:STANDARD
BEGIN:DAYLIGHT
TZOFFSETFROM:+0100
TZOFFSETTO:+0200
TZNAME:CEST
DTSTART:20260329T010000
END:DAYLIGHT
BEGIN:STANDARD
TZOFFSETFROM:+0200
TZOFFSETTO:+0100
TZNAME:CET
DTSTART:20261025T010000
END:STANDARD
END:VTIMEZONE
BEGIN:VEVENT
DTSTART;TZID=Europe/Berlin:20250501T160000
DTEND;TZID=Europe/Berlin:20250501T163000
DTSTAMP:20260421T063120
CREATED:20250415T140859Z
LAST-MODIFIED:20250415T140859Z
UID:10000100-1746115200-1746117000@kaeppele-wuerzburg.de
SUMMARY:Maiandacht am 01. Mai 2025 um 16.00 Uhr
DESCRIPTION:Am Donnerstag\, 01. Mai um 16.00 Uhr beginnen wir mit unseren Maiandachten dieses Jahres. Wir haben für dieses Jahr\, das ja ein Heiliges Jahr ist als Thema gewählt: “ Maria\, Pilgerin der Hoffnung!“
URL:https://kaeppele-wuerzburg.de/event/maiandacht-am-01-mai-2025-um-16-00-uhr/
END:VEVENT
END:VCALENDAR