BEGIN:VCALENDAR
VERSION:2.0
PRODID:-//Käppele Würzburg - ECPv6.15.17//NONSGML v1.0//EN
CALSCALE:GREGORIAN
METHOD:PUBLISH
X-WR-CALNAME:Käppele Würzburg
X-ORIGINAL-URL:https://kaeppele-wuerzburg.de
X-WR-CALDESC:Veranstaltungen für Käppele Würzburg
REFRESH-INTERVAL;VALUE=DURATION:PT1H
X-Robots-Tag:noindex
X-PUBLISHED-TTL:PT1H
BEGIN:VTIMEZONE
TZID:Europe/Berlin
BEGIN:DAYLIGHT
TZOFFSETFROM:+0100
TZOFFSETTO:+0200
TZNAME:CEST
DTSTART:20240331T010000
END:DAYLIGHT
BEGIN:STANDARD
TZOFFSETFROM:+0200
TZOFFSETTO:+0100
TZNAME:CET
DTSTART:20241027T010000
END:STANDARD
BEGIN:DAYLIGHT
TZOFFSETFROM:+0100
TZOFFSETTO:+0200
TZNAME:CEST
DTSTART:20250330T010000
END:DAYLIGHT
BEGIN:STANDARD
TZOFFSETFROM:+0200
TZOFFSETTO:+0100
TZNAME:CET
DTSTART:20251026T010000
END:STANDARD
BEGIN:DAYLIGHT
TZOFFSETFROM:+0100
TZOFFSETTO:+0200
TZNAME:CEST
DTSTART:20260329T010000
END:DAYLIGHT
BEGIN:STANDARD
TZOFFSETFROM:+0200
TZOFFSETTO:+0100
TZNAME:CET
DTSTART:20261025T010000
END:STANDARD
END:VTIMEZONE
BEGIN:VEVENT
DTSTART;TZID=Europe/Berlin:20250406T120000
DTEND;TZID=Europe/Berlin:20250406T123000
DTSTAMP:20260421T045217
CREATED:20250210T160404Z
LAST-MODIFIED:20250305T185747Z
UID:10000096-1743940800-1743942600@kaeppele-wuerzburg.de
SUMMARY:Orgelmatinée am Sonntag\, 06.04.25 um 12.00 Uhr im Käppele
DESCRIPTION:
URL:https://kaeppele-wuerzburg.de/event/orgelmatinee-am-sonntag-02-03-25-um-12-00-uhr-im-kaeppele/
END:VEVENT
END:VCALENDAR