BEGIN:VCALENDAR
VERSION:2.0
PRODID:-//Käppele Würzburg - ECPv6.15.17//NONSGML v1.0//EN
CALSCALE:GREGORIAN
METHOD:PUBLISH
X-ORIGINAL-URL:https://kaeppele-wuerzburg.de
X-WR-CALDESC:Veranstaltungen für Käppele Würzburg
REFRESH-INTERVAL;VALUE=DURATION:PT1H
X-Robots-Tag:noindex
X-PUBLISHED-TTL:PT1H
BEGIN:VTIMEZONE
TZID:Europe/Berlin
BEGIN:DAYLIGHT
TZOFFSETFROM:+0100
TZOFFSETTO:+0200
TZNAME:CEST
DTSTART:20230326T010000
END:DAYLIGHT
BEGIN:STANDARD
TZOFFSETFROM:+0200
TZOFFSETTO:+0100
TZNAME:CET
DTSTART:20231029T010000
END:STANDARD
BEGIN:DAYLIGHT
TZOFFSETFROM:+0100
TZOFFSETTO:+0200
TZNAME:CEST
DTSTART:20240331T010000
END:DAYLIGHT
BEGIN:STANDARD
TZOFFSETFROM:+0200
TZOFFSETTO:+0100
TZNAME:CET
DTSTART:20241027T010000
END:STANDARD
BEGIN:DAYLIGHT
TZOFFSETFROM:+0100
TZOFFSETTO:+0200
TZNAME:CEST
DTSTART:20250330T010000
END:DAYLIGHT
BEGIN:STANDARD
TZOFFSETFROM:+0200
TZOFFSETTO:+0100
TZNAME:CET
DTSTART:20251026T010000
END:STANDARD
END:VTIMEZONE
BEGIN:VEVENT
DTSTART;TZID=Europe/Berlin:20241219T080000
DTEND;TZID=Europe/Berlin:20241219T170000
DTSTAMP:20260420T234033
CREATED:20241219T220132Z
LAST-MODIFIED:20241219T221619Z
UID:10000090-1734595200-1734627600@kaeppele-wuerzburg.de
SUMMARY:Christmette am 24.12.24 um 22.00 Uhr
DESCRIPTION:Wir laden herzlich ein an Heiligabend\, Dienstag\, 24.12.24 zur Christmette. \nWir beginnen mit der Einstimmung um 21.45 mit Musikstücken „Puer natus in Bethlehem und von J. S. Bach „Auf die rechte Zeit ist hier! Um 22.00 Uhr Beginn der Christmette\, musikalisch begleitet vom „Trio – Ferenz“ \n 
URL:https://kaeppele-wuerzburg.de/event/christmette-am-24-12-24-um-22-00-uhr/
END:VEVENT
BEGIN:VEVENT
DTSTART;TZID=Europe/Berlin:20241219T080000
DTEND;TZID=Europe/Berlin:20241219T170000
DTSTAMP:20260420T234033
CREATED:20241219T222013Z
LAST-MODIFIED:20241219T222022Z
UID:10000091-1734595200-1734627600@kaeppele-wuerzburg.de
SUMMARY:Christmette am 24.12.24 um 22.00 Uhr
DESCRIPTION:Wir beginnen mit der Einstimmung um 21.45 Uhr mit Instrumentalstücken „Puer natus in Bethlehem“ und von J.S. Bach „Auf die rechte Zeit ist hier!“ \nUm 22.oo Uhr die Christmette mit der musikalischen Begleitung ders Trio -Ferenz.
URL:https://kaeppele-wuerzburg.de/event/christmette-am-24-12-24-um-22-00-uhr-2/
END:VEVENT
END:VCALENDAR