BEGIN:VCALENDAR
VERSION:2.0
PRODID:-//Käppele Würzburg - ECPv6.15.17//NONSGML v1.0//EN
CALSCALE:GREGORIAN
METHOD:PUBLISH
X-WR-CALNAME:Käppele Würzburg
X-ORIGINAL-URL:https://kaeppele-wuerzburg.de
X-WR-CALDESC:Veranstaltungen für Käppele Würzburg
REFRESH-INTERVAL;VALUE=DURATION:PT1H
X-Robots-Tag:noindex
X-PUBLISHED-TTL:PT1H
BEGIN:VTIMEZONE
TZID:Europe/Berlin
BEGIN:DAYLIGHT
TZOFFSETFROM:+0100
TZOFFSETTO:+0200
TZNAME:CEST
DTSTART:20230326T010000
END:DAYLIGHT
BEGIN:STANDARD
TZOFFSETFROM:+0200
TZOFFSETTO:+0100
TZNAME:CET
DTSTART:20231029T010000
END:STANDARD
BEGIN:DAYLIGHT
TZOFFSETFROM:+0100
TZOFFSETTO:+0200
TZNAME:CEST
DTSTART:20240331T010000
END:DAYLIGHT
BEGIN:STANDARD
TZOFFSETFROM:+0200
TZOFFSETTO:+0100
TZNAME:CET
DTSTART:20241027T010000
END:STANDARD
BEGIN:DAYLIGHT
TZOFFSETFROM:+0100
TZOFFSETTO:+0200
TZNAME:CEST
DTSTART:20250330T010000
END:DAYLIGHT
BEGIN:STANDARD
TZOFFSETFROM:+0200
TZOFFSETTO:+0100
TZNAME:CET
DTSTART:20251026T010000
END:STANDARD
END:VTIMEZONE
BEGIN:VEVENT
DTSTART;TZID=Europe/Berlin:20241201T093000
DTEND;TZID=Europe/Berlin:20241201T123000
DTSTAMP:20260420T214928
CREATED:20241120T161016Z
LAST-MODIFIED:20241120T161016Z
UID:10000089-1733045400-1733056200@kaeppele-wuerzburg.de
SUMMARY:Einladung zur Begegnung am 1. Adventssontag
DESCRIPTION:Die Kirchenverwaltung\, die Mitarbeiter und das Seelsorgeteam des Käppele laden herzlich ein zur Begegnung am 1. Adventssonntag jeweils nach den Gottesdiensten um 09.30 Uhr und 11.00 Uhr bei (alkoholfreiem) Glühwein und Verkauf von handgestrickten Socken zugunsten der Renovierung des Käppele.
URL:https://kaeppele-wuerzburg.de/event/einladung-zur-begegnung-am-1-adventssontag/
END:VEVENT
END:VCALENDAR